BEGIN:VCALENDAR
VERSION:2.0
PRODID:-//Tukios.com/
BEGIN:VEVENT
UID:56d45a1f-1721-4496-9459-04ddaa373385@www.udellfuneralhome.com
DTSTAMP:20260425T105706Z
DTSTART:20260425T150000Z
DTEND:20260425T160000Z
SUMMARY:Celebration of Life
DESCRIPTION:
URL:https://www.udellfuneralhome.com/obituaries/lillian-udell
LOCATION:Sweet Home Missionary Baptist Church 15007 SE CR 25A  White 
	Springs FL 32096
GEO:30.3653309;-82.8324521
END:VEVENT
END:VCALENDAR